BEGIN:VCALENDAR
VERSION:2.0
CREATED:20220302T015318Z
PRODID:-//Intel Corporation/Equisolve Calendar v1.0//EN
METHOD:PUBLISH
BEGIN:VEVENT
UID:d9062e7244ed8bd25b73bdbff275301b
DTSTAMP:20260421T142259Z
DTSTART:20220428T210000Z
DTEND:20220428T220000Z
SUMMARY:Q1 2022 Intel Corporation Earnings Conference Call
DESCRIPTION:Q1 2022 Intel Corporation Earnings Conference Call\nDate: Apr 28\, 2022  • 2:00 PM PDT\nWebcast: https://edge.media-server.com/mmc/p/omfw3m29
END:VEVENT
END:VCALENDAR
