BEGIN:VCALENDAR
VERSION:2.0
CREATED:20230810T212641Z
PRODID:-//Intel Corporation/Equisolve Calendar v1.0//EN
METHOD:PUBLISH
BEGIN:VEVENT
UID:34f074966c0c4ec8cfeb96271d277165
DTSTAMP:20260420T152457Z
DTSTART:20230831T171500Z
DTEND:20230831T181500Z
SUMMARY:Deutsche Bank 2023 Technology Conference
DESCRIPTION:Deutsche Bank 2023 Technology Conference\nDate: Aug 31\, 2023  • 10:15 AM PDT\nWebcast: https://event.webcasts.com/starthere.jsp?ei=1630890&tp_key=94f58e9e06&tp_special=8
END:VEVENT
END:VCALENDAR
